BEGIN:VCALENDAR
VERSION:2.0
PRODID:-//https://www.daiquirideckannamaria.com///NONSGML kigkonsult.se iCalcreator 2.10.15//
METHOD:PUBLISH
BEGIN:VEVENT
UID:20260423T084122UTC-6563z8XTjz@https://www.daiquirideckannamaria.com/
DTSTAMP:20260423T084122Z
DESCRIPTION: https://www.daiquirideckannamaria.com/component/rseventspro/ev
 ent/3835-5p-nick-lavalley?Itemid=221
DTSTART;VALUE=DATE:20260428
LOCATION:Daiquiri Deck South Siesta Key (1250 Stickney Point Rd\, Siesta Ke
 y\, FL 34242)
SUMMARY:5p Nick Lavalley
URL:https://www.daiquirideckannamaria.com/component/rseventspro/event/3835-
 5p-nick-lavalley?Itemid=221
END:VEVENT
END:VCALENDAR
