BEGIN:VCALENDAR
VERSION:2.0
PRODID:-//https://www.daiquirideckannamaria.com///NONSGML kigkonsult.se iCalcreator 2.10.15//
METHOD:PUBLISH
BEGIN:VEVENT
UID:20260421T090442UTC-8107S6VRR4@https://www.daiquirideckannamaria.com/
DTSTAMP:20260421T090442Z
DESCRIPTION: https://www.daiquirideckannamaria.com/component/rseventspro/ev
 ent/3918-12p-jay-simon?Itemid=221
DTSTART;VALUE=DATE:20260413
LOCATION:Daiquiri Deck Island of Venice (300 W Venice Ave\, Venice\, FL 342
 85)
SUMMARY:12p Jay Simon
URL:https://www.daiquirideckannamaria.com/component/rseventspro/event/3918-
 12p-jay-simon?Itemid=221
END:VEVENT
END:VCALENDAR
