BEGIN:VCALENDAR
VERSION:2.0
PRODID:-//https://www.daiquirideckannamaria.com///NONSGML kigkonsult.se iCalcreator 2.10.15//
METHOD:PUBLISH
BEGIN:VEVENT
UID:20260421T084729UTC-9564rb56aV@https://www.daiquirideckannamaria.com/
DTSTAMP:20260421T084729Z
DESCRIPTION: https://www.daiquirideckannamaria.com/component/rseventspro/ev
 ent/3934-4p-gulf-coastin-life?Itemid=221
DTSTART;VALUE=DATE:20260429
LOCATION:Daiquiri Deck Island of Venice (300 W Venice Ave\, Venice\, FL 342
 85)
SUMMARY:4p Gulf Coastin.Life
URL:https://www.daiquirideckannamaria.com/component/rseventspro/event/3934-
 4p-gulf-coastin-life?Itemid=221
END:VEVENT
END:VCALENDAR
