BEGIN:VCALENDAR
VERSION:2.0
PRODID:-//https://www.daiquirideckannamaria.com///NONSGML kigkonsult.se iCalcreator 2.10.15//
METHOD:PUBLISH
BEGIN:VEVENT
UID:20260423T162433UTC-8455IndFL4@https://www.daiquirideckannamaria.com/
DTSTAMP:20260423T162433Z
DESCRIPTION: https://www.daiquirideckannamaria.com/component/rseventspro/ev
 ent/4019-3p-sarah-santiago?Itemid=221
DTSTART;VALUE=DATE:20260526
LOCATION:Daiquiri Deck Siesta Key Village (5250 Ocean Blvd\, Sarasota\, FL 
 34242)
SUMMARY:3p Sarah Santiago  
URL:https://www.daiquirideckannamaria.com/component/rseventspro/event/4019-
 3p-sarah-santiago?Itemid=221
END:VEVENT
END:VCALENDAR
