BEGIN:VCALENDAR
VERSION:2.0
PRODID:-//https://www.daiquirideckannamaria.com///NONSGML kigkonsult.se iCalcreator 2.10.15//
METHOD:PUBLISH
BEGIN:VEVENT
UID:20260423T175051UTC-1444EWi18T@https://www.daiquirideckannamaria.com/
DTSTAMP:20260423T175051Z
DESCRIPTION: https://www.daiquirideckannamaria.com/component/rseventspro/ev
 ent/4020-3p-chris-otto?Itemid=221
DTSTART;VALUE=DATE:20260527
LOCATION:Daiquiri Deck Siesta Key Village (5250 Ocean Blvd\, Sarasota\, FL 
 34242)
SUMMARY:3p Chris Otto 
URL:https://www.daiquirideckannamaria.com/component/rseventspro/event/4020-
 3p-chris-otto?Itemid=221
END:VEVENT
END:VCALENDAR
