BEGIN:VCALENDAR
VERSION:2.0
PRODID:-//https://www.daiquirideckannamaria.com///NONSGML kigkonsult.se iCalcreator 2.10.15//
METHOD:PUBLISH
BEGIN:VEVENT
UID:20260423T211919UTC-0754COfmlN@https://www.daiquirideckannamaria.com/
DTSTAMP:20260423T211919Z
DESCRIPTION: https://www.daiquirideckannamaria.com/component/rseventspro/ev
 ent/4024-3p-lynn-andrew-duo?Itemid=221
DTSTART;VALUE=DATE:20260529
LOCATION:Daiquiri Deck Siesta Key Village (5250 Ocean Blvd\, Sarasota\, FL 
 34242)
SUMMARY:3p Lynn & Andrew Duo 
URL:https://www.daiquirideckannamaria.com/component/rseventspro/event/4024-
 3p-lynn-andrew-duo?Itemid=221
END:VEVENT
END:VCALENDAR
