BEGIN:VCALENDAR
VERSION:2.0
PRODID:-//https://www.daiquirideckannamaria.com///NONSGML kigkonsult.se iCalcreator 2.10.15//
METHOD:PUBLISH
BEGIN:VEVENT
UID:20260423T132620UTC-48635Cz57Z@https://www.daiquirideckannamaria.com/
DTSTAMP:20260423T132620Z
DESCRIPTION: https://www.daiquirideckannamaria.com/component/rseventspro/ev
 ent/4035-4p-gulf-coastin-life?Itemid=221
DTSTART;VALUE=DATE:20260507
LOCATION:Daiquiri Deck South Siesta Key (1250 Stickney Point Rd\, Siesta Ke
 y\, FL 34242)
SUMMARY:4p Gulf Coastin.Life
URL:https://www.daiquirideckannamaria.com/component/rseventspro/event/4035-
 4p-gulf-coastin-life?Itemid=221
END:VEVENT
END:VCALENDAR
