BEGIN:VCALENDAR
VERSION:2.0
PRODID:-//https://www.daiquirideckannamaria.com///NONSGML kigkonsult.se iCalcreator 2.10.15//
METHOD:PUBLISH
BEGIN:VEVENT
UID:20260423T165912UTC-6342gNUEfG@https://www.daiquirideckannamaria.com/
DTSTAMP:20260423T165912Z
DESCRIPTION: https://www.daiquirideckannamaria.com/component/rseventspro/ev
 ent/4038-5p-sean-adam-walsh?Itemid=221
DTSTART;VALUE=DATE:20260509
LOCATION:Daiquiri Deck South Siesta Key (1250 Stickney Point Rd\, Siesta Ke
 y\, FL 34242)
SUMMARY: 5p Sean Adam Walsh
URL:https://www.daiquirideckannamaria.com/component/rseventspro/event/4038-
 5p-sean-adam-walsh?Itemid=221
END:VEVENT
END:VCALENDAR
