BEGIN:VCALENDAR
VERSION:2.0
PRODID:-//https://www.daiquirideckannamaria.com///NONSGML kigkonsult.se iCalcreator 2.10.15//
METHOD:PUBLISH
BEGIN:VEVENT
UID:20260423T183150UTC-6029jCkj4f@https://www.daiquirideckannamaria.com/
DTSTAMP:20260423T183150Z
DESCRIPTION: https://www.daiquirideckannamaria.com/component/rseventspro/ev
 ent/4039-5p-joey-d?Itemid=221
DTSTART;VALUE=DATE:20260510
LOCATION:Daiquiri Deck South Siesta Key (1250 Stickney Point Rd\, Siesta Ke
 y\, FL 34242)
SUMMARY:5p Joey D
URL:https://www.daiquirideckannamaria.com/component/rseventspro/event/4039-
 5p-joey-d?Itemid=221
END:VEVENT
END:VCALENDAR
