BEGIN:VCALENDAR
VERSION:2.0
PRODID:-//https://www.daiquirideckannamaria.com///NONSGML kigkonsult.se iCalcreator 2.10.15//
METHOD:PUBLISH
BEGIN:VEVENT
UID:20260424T023827UTC-77830DUBk4@https://www.daiquirideckannamaria.com/
DTSTAMP:20260424T023827Z
DESCRIPTION: https://www.daiquirideckannamaria.com/component/rseventspro/ev
 ent/4044-5p-j-santi-trio?Itemid=221
DTSTART;VALUE=DATE:20260515
LOCATION:Daiquiri Deck South Siesta Key (1250 Stickney Point Rd\, Siesta Ke
 y\, FL 34242)
SUMMARY:5p J Santi Trio
URL:https://www.daiquirideckannamaria.com/component/rseventspro/event/4044-
 5p-j-santi-trio?Itemid=221
END:VEVENT
END:VCALENDAR
