BEGIN:VCALENDAR
VERSION:2.0
PRODID:-//https://www.daiquirideckannamaria.com///NONSGML kigkonsult.se iCalcreator 2.10.15//
METHOD:PUBLISH
BEGIN:VEVENT
UID:20260421T115711UTC-9659bw3MBh@https://www.daiquirideckannamaria.com/
DTSTAMP:20260421T115711Z
DESCRIPTION: https://www.daiquirideckannamaria.com/component/rseventspro/ev
 ent/4137-12-aaron-kelly?Itemid=221
DTSTART;VALUE=DATE:20260505
LOCATION:Daiquiri Deck Island of Venice (300 W Venice Ave\, Venice\, FL 342
 85)
SUMMARY:12 Aaron Kelly
URL:https://www.daiquirideckannamaria.com/component/rseventspro/event/4137-
 12-aaron-kelly?Itemid=221
END:VEVENT
END:VCALENDAR
