BEGIN:VCALENDAR
VERSION:2.0
PRODID:-//https://www.daiquirideckannamaria.com///NONSGML kigkonsult.se iCalcreator 2.10.15//
METHOD:PUBLISH
BEGIN:VEVENT
UID:20260421T211203UTC-3853deLgpB@https://www.daiquirideckannamaria.com/
DTSTAMP:20260421T211203Z
DESCRIPTION: https://www.daiquirideckannamaria.com/component/rseventspro/ev
 ent/4140-6p-joey-d?Itemid=221
DTSTART;VALUE=DATE:20260508
LOCATION:Daiquiri Deck Island of Venice (300 W Venice Ave\, Venice\, FL 342
 85)
SUMMARY:6p Joey D
URL:https://www.daiquirideckannamaria.com/component/rseventspro/event/4140-
 6p-joey-d?Itemid=221
END:VEVENT
END:VCALENDAR
