BEGIN:VCALENDAR
VERSION:2.0
PRODID:-//https://www.daiquirideckannamaria.com///NONSGML kigkonsult.se iCalcreator 2.10.15//
METHOD:PUBLISH
BEGIN:VEVENT
UID:20260422T003149UTC-4305RhDJEV@https://www.daiquirideckannamaria.com/
DTSTAMP:20260422T003149Z
DESCRIPTION: https://www.daiquirideckannamaria.com/component/rseventspro/ev
 ent/4142-12p-groove-circle?Itemid=221
DTSTART;VALUE=DATE:20260510
LOCATION:Daiquiri Deck Island of Venice (300 W Venice Ave\, Venice\, FL 342
 85)
SUMMARY:12p Groove Circle
URL:https://www.daiquirideckannamaria.com/component/rseventspro/event/4142-
 12p-groove-circle?Itemid=221
END:VEVENT
END:VCALENDAR
