BEGIN:VCALENDAR
VERSION:2.0
PRODID:-//https://www.daiquirideckannamaria.com///NONSGML kigkonsult.se iCalcreator 2.10.15//
METHOD:PUBLISH
BEGIN:VEVENT
UID:20260422T023735UTC-0712Pd0k2v@https://www.daiquirideckannamaria.com/
DTSTAMP:20260422T023735Z
DESCRIPTION: https://www.daiquirideckannamaria.com/component/rseventspro/ev
 ent/4143-4p-ryan-judy?Itemid=221
DTSTART;VALUE=DATE:20260511
LOCATION:Daiquiri Deck Island of Venice (300 W Venice Ave\, Venice\, FL 342
 85)
SUMMARY:4p Ryan Judy
URL:https://www.daiquirideckannamaria.com/component/rseventspro/event/4143-
 4p-ryan-judy?Itemid=221
END:VEVENT
END:VCALENDAR
