BEGIN:VCALENDAR
VERSION:2.0
PRODID:-//https://www.daiquirideckannamaria.com///NONSGML kigkonsult.se iCalcreator 2.10.15//
METHOD:PUBLISH
BEGIN:VEVENT
UID:20260422T035917UTC-0425e6rhUm@https://www.daiquirideckannamaria.com/
DTSTAMP:20260422T035917Z
DESCRIPTION: https://www.daiquirideckannamaria.com/component/rseventspro/ev
 ent/4144-12p-lonnie-paul?Itemid=221
DTSTART;VALUE=DATE:20260512
LOCATION:Daiquiri Deck Island of Venice (300 W Venice Ave\, Venice\, FL 342
 85)
SUMMARY:12p Lonnie Paul
URL:https://www.daiquirideckannamaria.com/component/rseventspro/event/4144-
 12p-lonnie-paul?Itemid=221
END:VEVENT
END:VCALENDAR
