BEGIN:VCALENDAR
VERSION:2.0
PRODID:-//https://www.daiquirideckannamaria.com///NONSGML kigkonsult.se iCalcreator 2.10.15//
METHOD:PUBLISH
BEGIN:VEVENT
UID:20260422T095100UTC-9942v6NAjH@https://www.daiquirideckannamaria.com/
DTSTAMP:20260422T095100Z
DESCRIPTION: https://www.daiquirideckannamaria.com/component/rseventspro/ev
 ent/4147-5p-jake-ariel?Itemid=221
DTSTART;VALUE=DATE:20260515
LOCATION:Daiquiri Deck Island of Venice (300 W Venice Ave\, Venice\, FL 342
 85)
SUMMARY:5p Jake & Ariel
URL:https://www.daiquirideckannamaria.com/component/rseventspro/event/4147-
 5p-jake-ariel?Itemid=221
END:VEVENT
END:VCALENDAR
