BEGIN:VCALENDAR
VERSION:2.0
PRODID:-//https://www.daiquirideckannamaria.com///NONSGML kigkonsult.se iCalcreator 2.10.15//
METHOD:PUBLISH
BEGIN:VEVENT
UID:20260422T125649UTC-8722L2LLpv@https://www.daiquirideckannamaria.com/
DTSTAMP:20260422T125649Z
DESCRIPTION: https://www.daiquirideckannamaria.com/component/rseventspro/ev
 ent/4149-5p-jay-simon?Itemid=221
DTSTART;VALUE=DATE:20260517
LOCATION:Daiquiri Deck Island of Venice (300 W Venice Ave\, Venice\, FL 342
 85)
SUMMARY:5p Jay Simon
URL:https://www.daiquirideckannamaria.com/component/rseventspro/event/4149-
 5p-jay-simon?Itemid=221
END:VEVENT
END:VCALENDAR
