BEGIN:VCALENDAR
VERSION:2.0
PRODID:-//https://www.daiquirideckannamaria.com///NONSGML kigkonsult.se iCalcreator 2.10.15//
METHOD:PUBLISH
BEGIN:VEVENT
UID:20260422T232227UTC-3716n9Stfh@https://www.daiquirideckannamaria.com/
DTSTAMP:20260422T232227Z
DESCRIPTION: https://www.daiquirideckannamaria.com/component/rseventspro/ev
 ent/4155-5p-kevin-thompson?Itemid=221
DTSTART;VALUE=DATE:20260523
LOCATION:Daiquiri Deck Island of Venice (300 W Venice Ave\, Venice\, FL 342
 85)
SUMMARY:5p Kevin Thompson
URL:https://www.daiquirideckannamaria.com/component/rseventspro/event/4155-
 5p-kevin-thompson?Itemid=221
END:VEVENT
END:VCALENDAR
