BEGIN:VCALENDAR
VERSION:2.0
PRODID:-//https://www.daiquirideckannamaria.com///NONSGML kigkonsult.se iCalcreator 2.10.15//
METHOD:PUBLISH
BEGIN:VEVENT
UID:20260423T011903UTC-1075xMcuGu@https://www.daiquirideckannamaria.com/
DTSTAMP:20260423T011903Z
DESCRIPTION: https://www.daiquirideckannamaria.com/component/rseventspro/ev
 ent/4156-4p-maddie-lin?Itemid=221
DTSTART;VALUE=DATE:20260524
LOCATION:Daiquiri Deck Island of Venice (300 W Venice Ave\, Venice\, FL 342
 85)
SUMMARY:4p Maddie Lin
URL:https://www.daiquirideckannamaria.com/component/rseventspro/event/4156-
 4p-maddie-lin?Itemid=221
END:VEVENT
END:VCALENDAR
