BEGIN:VCALENDAR
VERSION:2.0
PRODID:-//https://www.daiquirideckannamaria.com///NONSGML kigkonsult.se iCalcreator 2.10.15//
METHOD:PUBLISH
BEGIN:VEVENT
UID:20260423T051544UTC-600664EcUk@https://www.daiquirideckannamaria.com/
DTSTAMP:20260423T051544Z
DESCRIPTION: https://www.daiquirideckannamaria.com/component/rseventspro/ev
 ent/4158-12p-lonnie-paul?Itemid=221
DTSTART;VALUE=DATE:20260526
LOCATION:Daiquiri Deck Island of Venice (300 W Venice Ave\, Venice\, FL 342
 85)
SUMMARY:12p Lonnie Paul
URL:https://www.daiquirideckannamaria.com/component/rseventspro/event/4158-
 12p-lonnie-paul?Itemid=221
END:VEVENT
END:VCALENDAR
