BEGIN:VCALENDAR
VERSION:2.0
PRODID:-//https://www.daiquirideckannamaria.com///NONSGML kigkonsult.se iCalcreator 2.10.15//
METHOD:PUBLISH
BEGIN:VEVENT
UID:20260423T083934UTC-9500jUGgS3@https://www.daiquirideckannamaria.com/
DTSTAMP:20260423T083934Z
DESCRIPTION: https://www.daiquirideckannamaria.com/component/rseventspro/ev
 ent/4160-5p-jake-ariel?Itemid=221
DTSTART;VALUE=DATE:20260528
LOCATION:Daiquiri Deck Island of Venice (300 W Venice Ave\, Venice\, FL 342
 85)
SUMMARY:5p Jake & Ariel
URL:https://www.daiquirideckannamaria.com/component/rseventspro/event/4160-
 5p-jake-ariel?Itemid=221
END:VEVENT
END:VCALENDAR
