BEGIN:VCALENDAR
VERSION:2.0
PRODID:-//https://www.daiquirideckannamaria.com///NONSGML kigkonsult.se iCalcreator 2.10.15//
METHOD:PUBLISH
BEGIN:VEVENT
UID:20260425T102600UTC-9285m1lnBF@https://www.daiquirideckannamaria.com/
DTSTAMP:20260425T102600Z
DESCRIPTION: https://www.daiquirideckannamaria.com/component/rseventspro/ev
 ent/4161-4p-ryan-judy?Itemid=221
DTSTART;VALUE=DATE:20260529
LOCATION:Daiquiri Deck Island of Venice (300 W Venice Ave\, Venice\, FL 342
 85)
SUMMARY:4p Ryan Judy
URL:https://www.daiquirideckannamaria.com/component/rseventspro/event/4161-
 4p-ryan-judy?Itemid=221
END:VEVENT
END:VCALENDAR
