BEGIN:VCALENDAR
VERSION:2.0
PRODID:-//https://www.daiquirideckannamaria.com///NONSGML kigkonsult.se iCalcreator 2.10.15//
METHOD:PUBLISH
BEGIN:VEVENT
UID:20260421T225509UTC-7919i2vxu1@https://www.daiquirideckannamaria.com/
DTSTAMP:20260421T225509Z
DESCRIPTION: https://www.daiquirideckannamaria.com/component/rseventspro/ev
 ent/4168-6p-scott-lawrence?Itemid=221
DTSTART;VALUE=DATE:20260509
LOCATION:Daiquiri Deck Island of Venice (300 W Venice Ave\, Venice\, FL 342
 85)
SUMMARY:6p Scott Lawrence
URL:https://www.daiquirideckannamaria.com/component/rseventspro/event/4168-
 6p-scott-lawrence?Itemid=221
END:VEVENT
END:VCALENDAR
