BEGIN:VCALENDAR
VERSION:2.0
PRODID:-//https://www.daiquirideckannamaria.com///NONSGML kigkonsult.se iCalcreator 2.10.15//
METHOD:PUBLISH
BEGIN:VEVENT
UID:20260425T122230UTC-2886Vmtw9Z@https://www.daiquirideckannamaria.com/
DTSTAMP:20260425T122230Z
DESCRIPTION: https://www.daiquirideckannamaria.com/component/rseventspro/ev
 ent/4174-7p-aaron-kelly?Itemid=221
DTSTART;VALUE=DATE:20260530
LOCATION:Daiquiri Deck Island of Venice (300 W Venice Ave\, Venice\, FL 342
 85)
SUMMARY: 7p Aaron Kelly
URL:https://www.daiquirideckannamaria.com/component/rseventspro/event/4174-
 7p-aaron-kelly?Itemid=221
END:VEVENT
END:VCALENDAR
